BEGIN:VCALENDAR
VERSION:2.0
PRODID:-//Waimea Arts Council - ECPv6.15.13//NONSGML v1.0//EN
CALSCALE:GREGORIAN
METHOD:PUBLISH
X-WR-CALNAME:Waimea Arts Council
X-ORIGINAL-URL:https://www.waimeaartscouncil.org
X-WR-CALDESC:Events for Waimea Arts Council
REFRESH-INTERVAL;VALUE=DURATION:PT1H
X-Robots-Tag:noindex
X-PUBLISHED-TTL:PT1H
BEGIN:VTIMEZONE
TZID:Pacific/Honolulu
BEGIN:STANDARD
TZOFFSETFROM:-1000
TZOFFSETTO:-1000
TZNAME:HST
DTSTART:20240101T000000
END:STANDARD
END:VTIMEZONE
BEGIN:VEVENT
DTSTART;TZID=Pacific/Honolulu:20251004T100000
DTEND;TZID=Pacific/Honolulu:20251004T120000
DTSTAMP:20260423T142806
CREATED:20251001T201222Z
LAST-MODIFIED:20251020T232638Z
UID:11193-1759572000-1759579200@www.waimeaartscouncil.org
SUMMARY:Free Art Class: Polka Dot Painting
DESCRIPTION:The Waimea Arts Council and Thelma Parker Memorial Public Library are offering a community art class on Polka Dot Painting. Artist Lorrie Taylor hosts the next session on Saturday\, October 4 from 10 am – noon in the Thelma Parker Memorial public library meeting room. Come make a card for the occasion of your choice. The cards can be as simple or detailed as you like – the sky’s the limit. \nOpen to the public ages 6 and up. Children under 10 need to be accompanied by an adult. \nThe class is free but registration is required.  Space is limited. Call 808-887-6067.
URL:https://www.waimeaartscouncil.org/event/free-art-class-polka-dot-painting/
LOCATION:Thelma Parker Memorial Library Meeting Room\, 67-1209 Mamalahoa Hwy\, Kamuela\, HI\, 96743\, United States
CATEGORIES:Classes
ATTACH;FMTTYPE=image/jpeg:https://www.waimeaartscouncil.org/wp-content/uploads/2025/10/6.Octob25.jpg
END:VEVENT
BEGIN:VEVENT
DTSTART;TZID=Pacific/Honolulu:20251004T150000
DTEND;TZID=Pacific/Honolulu:20251004T170000
DTSTAMP:20260423T142806
CREATED:20250912T032203Z
LAST-MODIFIED:20250912T034108Z
UID:11091-1759590000-1759597200@www.waimeaartscouncil.org
SUMMARY:41st Annual Founders Juried Art Show
DESCRIPTION:Hawaii Island artists are invited to enter the 41st Annual Founders Juried Art Show\, which will be held at Kamuela’s Firehouse Gallery in October and sponsored by the Waimea Arts Council.\nExhibition: October 4 – 26\, 2025\nReception: October 4\, 3 – 5 pm
URL:https://www.waimeaartscouncil.org/event/free-art-class-watercolor-pop-up-cards-2/
LOCATION:Firehouse Gallery\, 67-1201 Mamalahoa Hwy\, Kamuela\, HI\, 96743\, United States
CATEGORIES:Classes
ATTACH;FMTTYPE=image/jpeg:https://www.waimeaartscouncil.org/wp-content/uploads/2025/08/Call41stEx.Web_.jpg
ORGANIZER;CN="Waimea Arts Council":MAILTO:waimeaartscouncil@gmail.com
END:VEVENT
BEGIN:VEVENT
DTSTART;VALUE=DATE:20251011
DTEND;VALUE=DATE:20251028
DTSTAMP:20260423T142806
CREATED:20251011T013940Z
LAST-MODIFIED:20251028T200143Z
UID:11161-1760140800-1761609599@www.waimeaartscouncil.org
SUMMARY:41st Annual Founders Art Show
DESCRIPTION:Discover vibrant original Hawaii Island art in the the 41st Annual Waimea Arts Council Founders Show. The exhibit opens on October 2 and runs until  26th. Come meet the artists at the public reception this Saturday\, Oct. 4 from 3-5 pm\, with light pupus and punch. The Firehouse Gallery is located at the intersection of highways 190 and 19 and is open from Thursday – Sunday 11-3 and whenever … Read more
URL:https://www.waimeaartscouncil.org/event/41st-annual-founders-art-show/
LOCATION:Firehouse Gallery\, 67-1201 Mamalahoa Hwy\, Kamuela\, HI\, 96743\, United States
CATEGORIES:Classes
ATTACH;FMTTYPE=image/jpeg:https://www.waimeaartscouncil.org/wp-content/uploads/2025/10/Members-Art-Show-Poster.jpg
ORGANIZER;CN="Waimea Arts Council":MAILTO:waimeaartscouncil@gmail.com
END:VEVENT
END:VCALENDAR