BEGIN:VCALENDAR
VERSION:2.0
PRODID:-//Waimea Arts Council - ECPv6.15.13//NONSGML v1.0//EN
CALSCALE:GREGORIAN
METHOD:PUBLISH
X-WR-CALNAME:Waimea Arts Council
X-ORIGINAL-URL:https://www.waimeaartscouncil.org
X-WR-CALDESC:Events for Waimea Arts Council
REFRESH-INTERVAL;VALUE=DURATION:PT1H
X-Robots-Tag:noindex
X-PUBLISHED-TTL:PT1H
BEGIN:VTIMEZONE
TZID:Pacific/Honolulu
BEGIN:STANDARD
TZOFFSETFROM:-1000
TZOFFSETTO:-1000
TZNAME:HST
DTSTART:20230101T000000
END:STANDARD
END:VTIMEZONE
BEGIN:VEVENT
DTSTART;TZID=Pacific/Honolulu:20250607T100000
DTEND;TZID=Pacific/Honolulu:20250607T120000
DTSTAMP:20260423T120825
CREATED:20250613T182553Z
LAST-MODIFIED:20250613T182553Z
UID:10999-1749290400-1749297600@www.waimeaartscouncil.org
SUMMARY:Free Art Class: Watercolor Pop-up Cards
DESCRIPTION:Pop-up art cards are fun! Make one for Father’s Day. \nThe Waimea Arts Council and Thelma Parker Memorial Public Library are offering a community art class on Pop-up Art Cards. Artist Lorrie Taylor hosts the next session on Saturday June 7 from 10 am – noon in the Thelma Parker Memorial public library meeting room. Come make a card for the occasion of your choice. The cards can be as simple or detailed as you like – the sky’s the limit. \nOpen to the public ages 6 and up. Children under 10 need to be accompanied by an adult. \nThe class is free but registration is required.  Space is limited. Call 808-887-6067.
URL:https://www.waimeaartscouncil.org/event/free-art-class-watercolor-pop-up-cards/
LOCATION:Thelma Parker Memorial Library Meeting Room\, 67-1209 Mamalahoa Hwy\, Kamuela\, HI\, 96743\, United States
CATEGORIES:Classes
ATTACH;FMTTYPE=image/jpeg:https://www.waimeaartscouncil.org/wp-content/uploads/2025/05/JuneCommunityArtClass.jpg
END:VEVENT
BEGIN:VEVENT
DTSTART;TZID=Pacific/Honolulu:20240720T100000
DTEND;TZID=Pacific/Honolulu:20240720T160000
DTSTAMP:20260423T120825
CREATED:20240502T151856Z
LAST-MODIFIED:20250613T182140Z
UID:10784-1721469600-1721491200@www.waimeaartscouncil.org
SUMMARY:1st Annual Artists Flea Market
DESCRIPTION:Are you an artist? Do you have extra art supplies you’re not using but someone else could? Want to sell it to keep it out of the landfills? \nFor only $20 you’ll get a 5×7 space to sell your art stuff\, supplies\, tools\, equipment\, etc and keep 100% profit. Sign up before the deadline of July 1st.
URL:https://www.waimeaartscouncil.org/event/1st-annual-artists-flea-market/
LOCATION:Waimea Middle School Gym\, 67-1229 Mamalahoa Hwy\, Kamuela\, Hawaii\, 96743
ATTACH;FMTTYPE=image/gif:https://www.waimeaartscouncil.org/wp-content/uploads/2024/05/Flartist-1st-Artists-Flea-Market-1.gif
ORGANIZER;CN="Waimea Arts Council":MAILTO:waimeaartscouncil@gmail.com
END:VEVENT
END:VCALENDAR