BEGIN:VCALENDAR
VERSION:2.0
PRODID:-//Waimea Arts Council - ECPv6.15.13//NONSGML v1.0//EN
CALSCALE:GREGORIAN
METHOD:PUBLISH
X-ORIGINAL-URL:https://www.waimeaartscouncil.org
X-WR-CALDESC:Events for Waimea Arts Council
REFRESH-INTERVAL;VALUE=DURATION:PT1H
X-Robots-Tag:noindex
X-PUBLISHED-TTL:PT1H
BEGIN:VTIMEZONE
TZID:Pacific/Honolulu
BEGIN:STANDARD
TZOFFSETFROM:-1000
TZOFFSETTO:-1000
TZNAME:HST
DTSTART:20240101T000000
END:STANDARD
END:VTIMEZONE
BEGIN:VEVENT
DTSTART;TZID=Pacific/Honolulu:20251101T140000
DTEND;TZID=Pacific/Honolulu:20251101T160000
DTSTAMP:20260423T155534
CREATED:20251021T050710Z
LAST-MODIFIED:20251021T050738Z
UID:11218-1762005600-1762012800@www.waimeaartscouncil.org
SUMMARY:Mostly Makai Mini-Show: November 1 – 30\, 2025
DESCRIPTION:Artist Kathryn Duval’s “Mostly Makai”  – mini show opens November 1 in the back gallery room of the Firehouse Gallery with a reception from 2 – 4 pm.The show features painted landscapes from multiple Hawai’i island locations\, especially those on the ocean.  It runs from November 1 to 30\, 2025Kathryn Duval is a Hilo based artist who frequently joins her local plein air groups in East Hawai’i. She works mainly in acrylic and watercolor\, and occasionally with multi-media.  She is inspired by the shapes of trees\, waves and clouds\, and these feature frequently in her work.  Many of her plein air works are done alla prima in one onsite session. The Firehouse Gallery is located at the intersection of highways 190 and 19 and is open from Thursday – Sunday 11-3 and whenever flags are flying. For more information\, call 808-887-1052.
URL:https://www.waimeaartscouncil.org/event/mostly-makai-mini-show-november-1-30-2025/
CATEGORIES:Community Events,Firehouse Gallery
ATTACH;FMTTYPE=image/jpeg:https://www.waimeaartscouncil.org/wp-content/uploads/2025/10/MostlyMakaiNov-1.jpg
END:VEVENT
END:VCALENDAR