BEGIN:VCALENDAR
VERSION:2.0
PRODID:-//Waimea Arts Council - ECPv6.15.13//NONSGML v1.0//EN
CALSCALE:GREGORIAN
METHOD:PUBLISH
X-ORIGINAL-URL:https://www.waimeaartscouncil.org
X-WR-CALDESC:Events for Waimea Arts Council
REFRESH-INTERVAL;VALUE=DURATION:PT1H
X-Robots-Tag:noindex
X-PUBLISHED-TTL:PT1H
BEGIN:VTIMEZONE
TZID:Pacific/Honolulu
BEGIN:STANDARD
TZOFFSETFROM:-1000
TZOFFSETTO:-1000
TZNAME:HST
DTSTART:20250101T000000
END:STANDARD
END:VTIMEZONE
BEGIN:VEVENT
DTSTART;VALUE=DATE:20260404
DTEND;VALUE=DATE:20260601
DTSTAMP:20260423T085024
CREATED:20260318T023106Z
LAST-MODIFIED:20260318T023114Z
UID:11495-1775260800-1780271999@www.waimeaartscouncil.org
SUMMARY:Ola I Ka Wai: Water is Life: April 4 – May 31\, 2026
DESCRIPTION:Water sustains all living things – flowing through culture\, memory and the natural world. In this members’ exhibition\, artists interpret the essential and spiritual connection between wai (water) and life in Hawai’i. Through diverse media and perspectives the show honors water as both a precious resource and a symbol of renewal. \nCome meet artists at the opening reception for Ola I Ka Wai: Water is Life on Saturday\, April 4 from 3-5 pm\, with light pupus and punch. \nThe Firehouse Gallery is located at the intersection of highways 190 and 19 and is regularly open from Thursday – Sunday 11-3 and whenever flags are flying. \nFor more information\, call 808-887-1052. \n  \n 
URL:https://www.waimeaartscouncil.org/event/ola-i-ka-wai-water-is-life-april-4-may-31-2026/
CATEGORIES:Community Events,Firehouse Gallery
ATTACH;FMTTYPE=image/jpeg:https://www.waimeaartscouncil.org/wp-content/uploads/2026/03/WaterLifeExib.jpg
END:VEVENT
BEGIN:VEVENT
DTSTART;TZID=Pacific/Honolulu:20260425T100000
DTEND;TZID=Pacific/Honolulu:20260425T140000
DTSTAMP:20260423T085024
CREATED:20260327T212119Z
LAST-MODIFIED:20260327T212234Z
UID:11541-1777111200-1777125600@www.waimeaartscouncil.org
SUMMARY:One Day Art Workshop - April 25
DESCRIPTION:One Day Art Workshop – Free Community Art Event: Create & Learn with Local Artists!\nClay Sculpting\, Watercolor Painting\, Nature Craft\, Interactive Net Tying Demo.\nFree for the Public. \nIn partnership with the Kamuela Center for the Arts\, Waimea Arts Council\, Kamuela Hardwoods on April 25 from 10 am to2 pm at Kamuela Hardwoods.
URL:https://www.waimeaartscouncil.org/event/one-day-art-workshop-april-25/
CATEGORIES:Classes,Community Events
ATTACH;FMTTYPE=image/jpeg:https://www.waimeaartscouncil.org/wp-content/uploads/2026/03/Clay26.jpg
END:VEVENT
END:VCALENDAR