BEGIN:VCALENDAR
VERSION:2.0
PRODID:-//Waimea Arts Council - ECPv6.15.13//NONSGML v1.0//EN
CALSCALE:GREGORIAN
METHOD:PUBLISH
X-ORIGINAL-URL:https://www.waimeaartscouncil.org
X-WR-CALDESC:Events for Waimea Arts Council
REFRESH-INTERVAL;VALUE=DURATION:PT1H
X-Robots-Tag:noindex
X-PUBLISHED-TTL:PT1H
BEGIN:VTIMEZONE
TZID:Pacific/Honolulu
BEGIN:STANDARD
TZOFFSETFROM:-1000
TZOFFSETTO:-1000
TZNAME:HST
DTSTART:20250101T000000
END:STANDARD
END:VTIMEZONE
BEGIN:VEVENT
DTSTART;VALUE=DATE:20260327
DTEND;VALUE=DATE:20260328
DTSTAMP:20260423T102321
CREATED:20260313T222424Z
LAST-MODIFIED:20260327T002144Z
UID:11490-1774569600-1774655999@www.waimeaartscouncil.org
SUMMARY:2nd Annual Poetry Reading: Friday\, March 27\, 2026
DESCRIPTION:The Waimea Arts Council in collaboration with Pacific Raven Press is delighted to host an inspiring evening of poetry on Friday\, March 27\, from 4 to 6 p.m. This special event will feature local and visiting poets whose work resonates with contemporary art’s beauty and emotional depth. In the intimate gallery space\, attendees will experience a dynamic fusion of visual and literary expression.\nGuests are encouraged to mingle with the poets and fellow art appreciators while enjoying complimentary refreshments. The event is free and open to the public\, but space is limited. To RSVP\, email Kbrundage@hpa.edu. \nJoin us for an evening celebrating the expressive power of poetry and art at the Firehouse Gallery\, 67-1201 Mamalahoa Highway\, Kamuela\, Hawaii 96743   For more information on the event or on our March exhibit “Making Visual Poetry”\, call 808-887-1052. \n  \n 
URL:https://www.waimeaartscouncil.org/event/2nd-annual-poetry-reading-friday-march-27-2026/
CATEGORIES:Community Events,Firehouse Gallery
ATTACH;FMTTYPE=image/jpeg:https://www.waimeaartscouncil.org/wp-content/uploads/2026/03/PoetryWeb26.jpg
END:VEVENT
END:VCALENDAR