BEGIN:VCALENDAR
VERSION:2.0
PRODID:-//Waimea Arts Council - ECPv6.15.13//NONSGML v1.0//EN
CALSCALE:GREGORIAN
METHOD:PUBLISH
X-WR-CALNAME:Waimea Arts Council
X-ORIGINAL-URL:https://www.waimeaartscouncil.org
X-WR-CALDESC:Events for Waimea Arts Council
REFRESH-INTERVAL;VALUE=DURATION:PT1H
X-Robots-Tag:noindex
X-PUBLISHED-TTL:PT1H
BEGIN:VTIMEZONE
TZID:Pacific/Honolulu
BEGIN:STANDARD
TZOFFSETFROM:-1000
TZOFFSETTO:-1000
TZNAME:HST
DTSTART:20250101T000000
END:STANDARD
END:VTIMEZONE
BEGIN:VEVENT
DTSTART;TZID=Pacific/Honolulu:20260404T100000
DTEND;TZID=Pacific/Honolulu:20260404T120000
DTSTAMP:20260423T095355
CREATED:20260306T022605Z
LAST-MODIFIED:20260306T022605Z
UID:11478-1775296800-1775304000@www.waimeaartscouncil.org
SUMMARY:First Saturday Art Class: Build-a-Bird
DESCRIPTION:Create a bird and habitat at the April First Saturday Art Class. \nIn partnership with the Waimea Arts Council\, Thelma Parker Memorial Public Library presents Build-A-Bird! with artist Lorrie Taylor on April 4 from 10 am to noon in the library. \nIn this class\, beginning artists 6+ will create their own bird and habitat using a selection of supplies\, some bird knowledge\, and their creativity. All materials provided by the Waimea Arts Council. Children under 10 must be accompanied by an adult. This class is presented as part of the library’s Flight Path grant from the Howard Hughes Medical Institute. The Flight Path campaign is focused on how communities can observe and protect local and migratory birds\, especially during peak migration periods. \nClass size is limited and advance registration at the library for each class is required. To register\, or for more info\, call 808-887-6067.
URL:https://www.waimeaartscouncil.org/event/first-saturday-art-class-build-a-bird/
CATEGORIES:Classes,Community Events
ATTACH;FMTTYPE=image/jpeg:https://www.waimeaartscouncil.org/wp-content/uploads/2026/03/April-First-Friday-Poster.jpg
END:VEVENT
END:VCALENDAR