BEGIN:VCALENDAR
VERSION:2.0
PRODID:-//Waimea Arts Council - ECPv6.15.13//NONSGML v1.0//EN
CALSCALE:GREGORIAN
METHOD:PUBLISH
X-WR-CALNAME:Waimea Arts Council
X-ORIGINAL-URL:https://www.waimeaartscouncil.org
X-WR-CALDESC:Events for Waimea Arts Council
REFRESH-INTERVAL;VALUE=DURATION:PT1H
X-Robots-Tag:noindex
X-PUBLISHED-TTL:PT1H
BEGIN:VTIMEZONE
TZID:Pacific/Honolulu
BEGIN:STANDARD
TZOFFSETFROM:-1000
TZOFFSETTO:-1000
TZNAME:HST
DTSTART:20240101T000000
END:STANDARD
END:VTIMEZONE
BEGIN:VEVENT
DTSTART;TZID=Pacific/Honolulu:20251101T100000
DTEND;TZID=Pacific/Honolulu:20251101T120000
DTSTAMP:20260423T142728
CREATED:20251020T230828Z
LAST-MODIFIED:20251021T051600Z
UID:11198-1761991200-1761998400@www.waimeaartscouncil.org
SUMMARY:Free Art Class: Textiles are Art Too!
DESCRIPTION:The Waimea Arts Council and Thelma Parker Memorial Public Library are offering a community art class on November 1 called Textiles are Art Too! Artist Lorrie Taylor hosts the session on Saturday November 1 from 10 am – noon in the Thelma Parker Memorial public library meeting room. \n\n\n\nIn this class beginning artists ages 6 and up will learn to make yarn feathers or leaves.  Using simple knots\, students will create a finished piece that will look great hanging anywhere!  If you can tie a knot\, you can create a textile piece. \n\n\n\nOpen to the public ages 6 and up. Children under 10 need to be accompanied by an adult.  All materials are provided by the Waimea Arts Council. \n\n\n\nThe class is free but registration is required.  Space is limited. Call 808-887-6067.
URL:https://www.waimeaartscouncil.org/event/free-art-class-textiles-are-art-too-2/
LOCATION:Thelma Parker Memorial Library Meeting Room\, 67-1209 Mamalahoa Hwy\, Kamuela\, HI\, 96743\, United States
CATEGORIES:Classes,Community Events
ATTACH;FMTTYPE=image/jpeg:https://www.waimeaartscouncil.org/wp-content/uploads/2025/10/FirstSatClassNov2025.jpg
END:VEVENT
END:VCALENDAR