BEGIN:VCALENDAR
VERSION:2.0
PRODID:-//Waimea Arts Council - ECPv6.15.13//NONSGML v1.0//EN
CALSCALE:GREGORIAN
METHOD:PUBLISH
X-ORIGINAL-URL:https://www.waimeaartscouncil.org
X-WR-CALDESC:Events for Waimea Arts Council
REFRESH-INTERVAL;VALUE=DURATION:PT1H
X-Robots-Tag:noindex
X-PUBLISHED-TTL:PT1H
BEGIN:VTIMEZONE
TZID:Pacific/Honolulu
BEGIN:STANDARD
TZOFFSETFROM:-1000
TZOFFSETTO:-1000
TZNAME:HST
DTSTART:20250101T000000
END:STANDARD
END:VTIMEZONE
BEGIN:VEVENT
DTSTART;VALUE=DATE:20260302
DTEND;VALUE=DATE:20260401
DTSTAMP:20260423T090114
CREATED:20260303T004154Z
LAST-MODIFIED:20260303T004154Z
UID:11470-1772409600-1775001599@www.waimeaartscouncil.org
SUMMARY:Realism in Oils: March 2026
DESCRIPTION:An exhibit of oil paintings by Norma Watt – March  2026 \nArtist Statement: I have lived in the Islands since the 60’s and I want my paintings to recapture some of the past and preserve scenes of the present. \nThe Firehouse Gallery is located at the intersection of highways 190 and 19 and is open from Thursday – Sunday 11-3 and whenever flags are flying. For more information\, call 808-887-1052.
URL:https://www.waimeaartscouncil.org/event/realism-in-oils-march-2026/
CATEGORIES:Firehouse Gallery
ATTACH;FMTTYPE=image/jpeg:https://www.waimeaartscouncil.org/wp-content/uploads/2026/03/Realism-in-Oils-Exhibit.jpg
END:VEVENT
BEGIN:VEVENT
DTSTART;VALUE=DATE:20260307
DTEND;VALUE=DATE:20260330
DTSTAMP:20260423T090114
CREATED:20260218T225607Z
LAST-MODIFIED:20260218T225607Z
UID:11465-1772841600-1774828799@www.waimeaartscouncil.org
SUMMARY:Making Visual Poetry: March 7 – 29\, 2026
DESCRIPTION:Experience how Hawai’i island artists explore the relationship between image and word in Waimea Arts Council members’ exhibit: Making Visual Poetry. \nThe Firehouse Gallery is located at the intersection of highways 190 and 19 and is regularly open from Thursday – Sunday 11-3 and whenever flags are flying. \nFor more information\, call 808-887-1052.
URL:https://www.waimeaartscouncil.org/event/making-visual-poetry-march-7-29-2026/
CATEGORIES:Firehouse Gallery
ATTACH;FMTTYPE=image/jpeg:https://www.waimeaartscouncil.org/wp-content/uploads/2026/02/PoetryExhibit.jpg
END:VEVENT
BEGIN:VEVENT
DTSTART;TZID=Pacific/Honolulu:20260307T100000
DTEND;TZID=Pacific/Honolulu:20260307T120000
DTSTAMP:20260423T090114
CREATED:20260216T224104Z
LAST-MODIFIED:20260216T224105Z
UID:11457-1772877600-1772884800@www.waimeaartscouncil.org
SUMMARY:Free Community Art Class on Origami Shadow Boxes
DESCRIPTION:Come create your own origami shadow box!  The Waimea Arts Council and Thelma Parker Memorial Library are sponsoring a community art class “Origami Shadow Boxes” on March 7\, 2026 from 10-noon.  Artist Lorrie Taylor will show beginning artists 6+ how to fold their own origami shadow box and add small treasures. Students are encouraged to find treasures on a nature walk or bring small treasures from home to display in their box. Origami box materials provided by the Waimea Arts Council. Children under 10 must be accompanied by an adult. \nClass is held at the Thelma Parker Memorial Library\, 67-1209 Mamalahoa Hwy. \nThe class is free\, but space is limited. Please register by calling 808-887-6067.
URL:https://www.waimeaartscouncil.org/event/free-community-art-class-on-origami-shadow-boxes/
CATEGORIES:Classes,Community Events
ATTACH;FMTTYPE=image/jpeg:https://www.waimeaartscouncil.org/wp-content/uploads/2026/02/First-Saturday-Art-Class-March-2026-1.jpg
END:VEVENT
BEGIN:VEVENT
DTSTART;TZID=Pacific/Honolulu:20260307T150000
DTEND;TZID=Pacific/Honolulu:20260307T170000
DTSTAMP:20260423T090114
CREATED:20260218T225158Z
LAST-MODIFIED:20260313T234038Z
UID:11464-1772895600-1772902800@www.waimeaartscouncil.org
SUMMARY:Making Visual Poetry Opening Reception:  March 7\, 3-5 pm
DESCRIPTION:Come meet artists at the opening reception for Making Visual Poetry on Saturday\, December 7 from 3-5 pm\, with light pupus and punch. \nExperience how Hawai’i island artists explore the relationship between image and word in this members’ exhibit. \nThe Firehouse Gallery is located at the intersection of highways 190 and 19. Call 808-887-1052 for more information.
URL:https://www.waimeaartscouncil.org/event/making-visual-poetry-opening-reception-march-7-3-5-pm/
CATEGORIES:Community Events,Firehouse Gallery
ATTACH;FMTTYPE=image/jpeg:https://www.waimeaartscouncil.org/wp-content/uploads/2026/02/PoetryExhibit.jpg
END:VEVENT
BEGIN:VEVENT
DTSTART;TZID=Pacific/Honolulu:20260307T150000
DTEND;TZID=Pacific/Honolulu:20260307T170000
DTSTAMP:20260423T090114
CREATED:20260303T005153Z
LAST-MODIFIED:20260313T234018Z
UID:11471-1772895600-1772902800@www.waimeaartscouncil.org
SUMMARY:Opening Reception: Realism in Oils
DESCRIPTION:Come enjoy light refreshments and meet artist Norma Watt at the opening of her mini-show ‘Realism in Oils’ on Saturday March 7 from 3-5 pm.
URL:https://www.waimeaartscouncil.org/event/opening-reception-realism-in-oils/
CATEGORIES:Firehouse Gallery
ATTACH;FMTTYPE=image/jpeg:https://www.waimeaartscouncil.org/wp-content/uploads/2026/03/Norma-and-minishow-reduced.jpeg
END:VEVENT
END:VCALENDAR