BEGIN:VCALENDAR
VERSION:2.0
PRODID:-//Waimea Arts Council - ECPv6.15.13//NONSGML v1.0//EN
CALSCALE:GREGORIAN
METHOD:PUBLISH
X-ORIGINAL-URL:https://www.waimeaartscouncil.org
X-WR-CALDESC:Events for Waimea Arts Council
REFRESH-INTERVAL;VALUE=DURATION:PT1H
X-Robots-Tag:noindex
X-PUBLISHED-TTL:PT1H
BEGIN:VTIMEZONE
TZID:Pacific/Honolulu
BEGIN:STANDARD
TZOFFSETFROM:-1000
TZOFFSETTO:-1000
TZNAME:HST
DTSTART:20240101T000000
END:STANDARD
END:VTIMEZONE
BEGIN:VEVENT
DTSTART;TZID=Pacific/Honolulu:20251206T150000
DTEND;TZID=Pacific/Honolulu:20251230T180000
DTSTAMP:20260423T113940
CREATED:20251021T041830Z
LAST-MODIFIED:20251213T182011Z
UID:11206-1765033200-1767117600@www.waimeaartscouncil.org
SUMMARY:Celebrate a Season of Giving Show
DESCRIPTION:Discover vibrant original Hawaii Island art in the the Celebrate a Season of Giving Show. The exhibit opens on November 1st and runs until  30th. Come meet the artists at the public reception this Saturday\, December 6 from 3-6 pm\, with light pupus and punch. The Firehouse Gallery is located at the intersection of highways 190 and 19 and is open from Thursday – Sunday 11-3 and whenever flags are flying. For more information\, call 808-887-1052.
URL:https://www.waimeaartscouncil.org/event/celebrate-a-season-of-giving-show/
CATEGORIES:Community Events,Firehouse Gallery
ATTACH;FMTTYPE=image/jpeg:https://www.waimeaartscouncil.org/wp-content/uploads/2025/10/SmallArtShow.jpg
END:VEVENT
END:VCALENDAR