BEGIN:VCALENDAR
VERSION:2.0
PRODID:-//Waimea Arts Council - ECPv6.15.13//NONSGML v1.0//EN
CALSCALE:GREGORIAN
METHOD:PUBLISH
X-WR-CALNAME:Waimea Arts Council
X-ORIGINAL-URL:https://www.waimeaartscouncil.org
X-WR-CALDESC:Events for Waimea Arts Council
REFRESH-INTERVAL;VALUE=DURATION:PT1H
X-Robots-Tag:noindex
X-PUBLISHED-TTL:PT1H
BEGIN:VTIMEZONE
TZID:Pacific/Honolulu
BEGIN:STANDARD
TZOFFSETFROM:-1000
TZOFFSETTO:-1000
TZNAME:HST
DTSTART:20240101T000000
END:STANDARD
END:VTIMEZONE
BEGIN:VEVENT
DTSTART;VALUE=DATE:20251011
DTEND;VALUE=DATE:20251028
DTSTAMP:20260423T142727
CREATED:20251011T013940Z
LAST-MODIFIED:20251028T200143Z
UID:11161-1760140800-1761609599@www.waimeaartscouncil.org
SUMMARY:41st Annual Founders Art Show
DESCRIPTION:Discover vibrant original Hawaii Island art in the the 41st Annual Waimea Arts Council Founders Show. The exhibit opens on October 2 and runs until  26th. Come meet the artists at the public reception this Saturday\, Oct. 4 from 3-5 pm\, with light pupus and punch. The Firehouse Gallery is located at the intersection of highways 190 and 19 and is open from Thursday – Sunday 11-3 and whenever … Read more
URL:https://www.waimeaartscouncil.org/event/41st-annual-founders-art-show/
LOCATION:Firehouse Gallery\, 67-1201 Mamalahoa Hwy\, Kamuela\, HI\, 96743\, United States
CATEGORIES:Classes
ATTACH;FMTTYPE=image/jpeg:https://www.waimeaartscouncil.org/wp-content/uploads/2025/10/Members-Art-Show-Poster.jpg
ORGANIZER;CN="Waimea Arts Council":MAILTO:waimeaartscouncil@gmail.com
END:VEVENT
END:VCALENDAR